Workbook
Name test: #REF!

Sheet 申込書(見本)
A1: 静岡県バスケットボール協会U１２部会
A2: 第４４回 静岡県Ｕ１２バスケットボール選手権大会 参加申込書
A3: チーム名 | C3: 富士の国ミニバスケットボールクラブ | I3: 略称(6文字以内) | K3: 男子 ・ 女子 | P3: 東部・中部・西部 | U3: 1 | W3: 位
I4: 富士の国
A5: ○を付ける | C5: 東部中央 ・ 駿東 ・ 岳南 ・ 清水 ・ 静岡 ・ 志太榛原 ・ 磐田 ・ 浜松 ･ 天竜浜名湖 | N5: チームＩＤ（日本バスケットボール協会） | Y5: チームＩＤ（T+９桁）
N6: T | O6: =MID(Y6,1,1) -> 4 | P6: =MID(Y6,2,1) -> 5 | Q6: =MID(Y6,3,1) -> 0 | R6: =MID(Y6,4,1) -> 1 | S6: =MID(Y6,5,1) -> 2 | T6: =MID(Y6,6,1) -> 3 | U6: =MID(Y6,7,1) -> 4 | V6: =MID(Y6,8,1) -> 5 | W6: =MID(Y6,9,1) -> 6 | Y6: 450123456
C7: ｺｰﾁ | G7: ｱｼｽﾀﾝﾄ・ｺｰﾁ | K7: マネージャー | Q7: 代表者
A8: 氏名 | C8: 静岡 太郎 | G8: 東海 花子 | K8: 静岡 次郎
A9: ｺｰﾁﾗｲｾﾝｽ | C9: Ｃ級 | D9: 503313907 | G9: E級 | H9: 501234567
A10: 連絡先 | B10: 氏名 | F10: 住所 | N10: TEL | P10: 055-123-1234
B11: 静岡 太郎 | F11: 〒１２３－１２３４ | N11: FAX | P11: 055-123-1234
F12: 静岡市○○町○－○○ | N12: 携帯 | P12: 090-1234-1234
A13: 背番号 | B13: 選手氏名（漢字） | E13: 選手氏名（カタカナ） | H13: 学年 | I13: 身長(cm) | J13: 所属小学校名 | O13: メンバーＩＤ | Y13: メンバーＩＤ（９桁）
A14: 4 | B14: 静岡 一郎 | E14: シズオカ イチロウ | H14: 6 | I14: 157 | J14: 富士の国第一 | O14: =MID(Y14,1,1) -> 1 | P14: =MID(Y14,2,1) -> 2 | Q14: =MID(Y14,3,1) -> 3 | R14: =MID(Y14,4,1) -> 4 | S14: =MID(Y14,5,1) -> 5 | T14: =MID(Y14,6,1) -> 6 | U14: =MID(Y14,7,1) -> 7 | V14: =MID(Y14,8,1) -> 8 | W14: =MID(Y14,9,1) -> 9 | Y14: 123456789
A15: 5 | O15: =MID(Y15,1,1) | P15: =MID(Y15,2,1) | Q15: =MID(Y15,3,1) | R15: =MID(Y15,4,1) | S15: =MID(Y15,5,1) | T15: =MID(Y15,6,1) | U15: =MID(Y15,7,1) | V15: =MID(Y15,8,1) | W15: =MID(Y15,9,1)
A16: 6 | O16: =MID(Y16,1,1) | P16: =MID(Y16,2,1) | Q16: =MID(Y16,3,1) | R16: =MID(Y16,4,1) | S16: =MID(Y16,5,1) | T16: =MID(Y16,6,1) | U16: =MID(Y16,7,1) | V16: =MID(Y16,8,1) | W16: =MID(Y16,9,1)
A17: 7 | O17: =MID(Y17,1,1) | P17: =MID(Y17,2,1) | Q17: =MID(Y17,3,1) | R17: =MID(Y17,4,1) | S17: =MID(Y17,5,1) | T17: =MID(Y17,6,1) | U17: =MID(Y17,7,1) | V17: =MID(Y17,8,1) | W17: =MID(Y17,9,1)
A18: 8 | O18: =MID(Y18,1,1) | P18: =MID(Y18,2,1) | Q18: =MID(Y18,3,1) | R18: =MID(Y18,4,1) | S18: =MID(Y18,5,1) | T18: =MID(Y18,6,1) | U18: =MID(Y18,7,1) | V18: =MID(Y18,8,1) | W18: =MID(Y18,9,1)
A19: 9 | O19: =MID(Y19,1,1) | P19: =MID(Y19,2,1) | Q19: =MID(Y19,3,1) | R19: =MID(Y19,4,1) | S19: =MID(Y19,5,1) | T19: =MID(Y19,6,1) | U19: =MID(Y19,7,1) | V19: =MID(Y19,8,1) | W19: =MID(Y19,9,1)
A20: 10 | O20: =MID(Y20,1,1) | P20: =MID(Y20,2,1) | Q20: =MID(Y20,3,1) | R20: =MID(Y20,4,1) | S20: =MID(Y20,5,1) | T20: =MID(Y20,6,1) | U20: =MID(Y20,7,1) | V20: =MID(Y20,8,1) | W20: =MID(Y20,9,1)
A21: 11 | O21: =MID(Y21,1,1) | P21: =MID(Y21,2,1) | Q21: =MID(Y21,3,1) | R21: =MID(Y21,4,1) | S21: =MID(Y21,5,1) | T21: =MID(Y21,6,1) | U21: =MID(Y21,7,1) | V21: =MID(Y21,8,1) | W21: =MID(Y21,9,1)
A22: 12 | O22: =MID(Y22,1,1) | P22: =MID(Y22,2,1) | Q22: =MID(Y22,3,1) | R22: =MID(Y22,4,1) | S22: =MID(Y22,5,1) | T22: =MID(Y22,6,1) | U22: =MID(Y22,7,1) | V22: =MID(Y22,8,1) | W22: =MID(Y22,9,1)
A23: 13 | O23: =MID(Y23,1,1) | P23: =MID(Y23,2,1) | Q23: =MID(Y23,3,1) | R23: =MID(Y23,4,1) | S23: =MID(Y23,5,1) | T23: =MID(Y23,6,1) | U23: =MID(Y23,7,1) | V23: =MID(Y23,8,1) | W23: =MID(Y23,9,1)
A24: 14 | O24: =MID(Y24,1,1) | P24: =MID(Y24,2,1) | Q24: =MID(Y24,3,1) | R24: =MID(Y24,4,1) | S24: =MID(Y24,5,1) | T24: =MID(Y24,6,1) | U24: =MID(Y24,7,1) | V24: =MID(Y24,8,1) | W24: =MID(Y24,9,1)
A25: 15 | O25: =MID(Y25,1,1) | P25: =MID(Y25,2,1) | Q25: =MID(Y25,3,1) | R25: =MID(Y25,4,1) | S25: =MID(Y25,5,1) | T25: =MID(Y25,6,1) | U25: =MID(Y25,7,1) | V25: =MID(Y25,8,1) | W25: =MID(Y25,9,1)
A26: 16 | O26: =MID(Y26,1,1) | P26: =MID(Y26,2,1) | Q26: =MID(Y26,3,1) | R26: =MID(Y26,4,1) | S26: =MID(Y26,5,1) | T26: =MID(Y26,6,1) | U26: =MID(Y26,7,1) | V26: =MID(Y26,8,1) | W26: =MID(Y26,9,1)
... A28: 18 | O28: =MID(Y28,1,1) | P28: =MID(Y28,2,1) | Q28: =MID(Y28,3,1) | R28: =MID(Y28,4,1) | S28: =MID(Y28,5,1) | T28: =MID(Y28,6,1) | U28: =MID(Y28,7,1) | V28: =MID(Y28,8,1) | W28: =MID(Y28,9,1)
A29: 上記児童が大会へ参加します。
F30: 2026年 9月 18日 | K30: 代表者氏名 | O30: ○○ ○○
A32: ※チームの帯同審判は、各支部審判長から連絡がいくので確認してください。

Sheet ①県大会参加申込書
A1: 静岡県バスケットボール協会U１２部会
A2: 第４４回 静岡県Ｕ１２バスケットボール選手権大会 参加申込書
A3: チーム名 | I3: 略称(５文字以内) | K3: 男子 ・ 女子 | P3: 東部・中部・西部 | W3: 位
A5: ○を付ける | C5: 東部中央 ・ 駿東 ・ 岳南 ・ 清水 ・ 静岡 ・ 志太榛原 ・ 磐田 ・ 浜松 ･ 天竜浜名湖 | N5: チームＩＤ（日本バスケットボール協会） | Y5: チームＩＤ（T+９桁）
N6: T | O6: =MID(Y6,2,1) | P6: =MID(Y6,3,1) | Q6: =MID(Y6,4,1) | R6: =MID(Y6,5,1) | S6: =MID(Y6,6,1) | T6: =MID(Y6,7,1) | U6: =MID(Y6,8,1) | V6: =MID(Y6,9,1) | W6: =MID(Y6,10,1)
C7: ｺｰﾁ | G7: ｱｼｽﾀﾝﾄ・ｺｰﾁ | K7: マネージャー | Q7: 代表者
A8: 氏名
A9: ｺｰﾁﾗｲｾﾝｽ
A10: 連絡先 | B10: 氏名 | F10: 住所 | N10: TEL
N11: FAX
N12: 携帯
A13: 背番号 | B13: 選手氏名（漢字） | E13: 選手氏名（カタカナ） | H13: 学年 | I13: 身長(cm) | J13: 所属小学校名 | O13: メンバーＩＤ | Y13: メンバーＩＤ（９桁）
A14: 4 | O14: =MID(Y14,1,1) | P14: =MID(Y14,2,1) | Q14: =MID(Y14,3,1) | R14: =MID(Y14,4,1) | S14: =MID(Y14,5,1) | T14: =MID(Y14,6,1) | U14: =MID(Y14,7,1) | V14: =MID(Y14,8,1) | W14: =MID(Y14,9,1)
A15: 5 | O15: =MID(Y15,1,1) | P15: =MID(Y15,2,1) | Q15: =MID(Y15,3,1) | R15: =MID(Y15,4,1) | S15: =MID(Y15,5,1) | T15: =MID(Y15,6,1) | U15: =MID(Y15,7,1) | V15: =MID(Y15,8,1) | W15: =MID(Y15,9,1)
A16: 6 | O16: =MID(Y16,1,1) | P16: =MID(Y16,2,1) | Q16: =MID(Y16,3,1) | R16: =MID(Y16,4,1) | S16: =MID(Y16,5,1) | T16: =MID(Y16,6,1) | U16: =MID(Y16,7,1) | V16: =MID(Y16,8,1) | W16: =MID(Y16,9,1)
A17: 7 | O17: =MID(Y17,1,1) | P17: =MID(Y17,2,1) | Q17: =MID(Y17,3,1) | R17: =MID(Y17,4,1) | S17: =MID(Y17,5,1) | T17: =MID(Y17,6,1) | U17: =MID(Y17,7,1) | V17: =MID(Y17,8,1) | W17: =MID(Y17,9,1)
A18: 8 | O18: =MID(Y18,1,1) | P18: =MID(Y18,2,1) | Q18: =MID(Y18,3,1) | R18: =MID(Y18,4,1) | S18: =MID(Y18,5,1) | T18: =MID(Y18,6,1) | U18: =MID(Y18,7,1) | V18: =MID(Y18,8,1) | W18: =MID(Y18,9,1)
A19: 9 | O19: =MID(Y19,1,1) | P19: =MID(Y19,2,1) | Q19: =MID(Y19,3,1) | R19: =MID(Y19,4,1) | S19: =MID(Y19,5,1) | T19: =MID(Y19,6,1) | U19: =MID(Y19,7,1) | V19: =MID(Y19,8,1) | W19: =MID(Y19,9,1)
A20: 10 | O20: =MID(Y20,1,1) | P20: =MID(Y20,2,1) | Q20: =MID(Y20,3,1) | R20: =MID(Y20,4,1) | S20: =MID(Y20,5,1) | T20: =MID(Y20,6,1) | U20: =MID(Y20,7,1) | V20: =MID(Y20,8,1) | W20: =MID(Y20,9,1)
A21: 11 | O21: =MID(Y21,1,1) | P21: =MID(Y21,2,1) | Q21: =MID(Y21,3,1) | R21: =MID(Y21,4,1) | S21: =MID(Y21,5,1) | T21: =MID(Y21,6,1) | U21: =MID(Y21,7,1) | V21: =MID(Y21,8,1) | W21: =MID(Y21,9,1)
A22: 12 | O22: =MID(Y22,1,1) | P22: =MID(Y22,2,1) | Q22: =MID(Y22,3,1) | R22: =MID(Y22,4,1) | S22: =MID(Y22,5,1) | T22: =MID(Y22,6,1) | U22: =MID(Y22,7,1) | V22: =MID(Y22,8,1) | W22: =MID(Y22,9,1)
A23: 13 | O23: =MID(Y23,1,1) | P23: =MID(Y23,2,1) | Q23: =MID(Y23,3,1) | R23: =MID(Y23,4,1) | S23: =MID(Y23,5,1) | T23: =MID(Y23,6,1) | U23: =MID(Y23,7,1) | V23: =MID(Y23,8,1) | W23: =MID(Y23,9,1)
A24: 14 | O24: =MID(Y24,1,1) | P24: =MID(Y24,2,1) | Q24: =MID(Y24,3,1) | R24: =MID(Y24,4,1) | S24: =MID(Y24,5,1) | T24: =MID(Y24,6,1) | U24: =MID(Y24,7,1) | V24: =MID(Y24,8,1) | W24: =MID(Y24,9,1)
A25: 15 | O25: =MID(Y25,1,1) | P25: =MID(Y25,2,1) | Q25: =MID(Y25,3,1) | R25: =MID(Y25,4,1) | S25: =MID(Y25,5,1) | T25: =MID(Y25,6,1) | U25: =MID(Y25,7,1) | V25: =MID(Y25,8,1) | W25: =MID(Y25,9,1)
... A28: 18 | O28: =MID(Y28,1,1) | P28: =MID(Y28,2,1) | Q28: =MID(Y28,3,1) | R28: =MID(Y28,4,1) | S28: =MID(Y28,5,1) | T28: =MID(Y28,6,1) | U28: =MID(Y28,7,1) | V28: =MID(Y28,8,1) | W28: =MID(Y28,9,1)
A29: 上記児童が大会へ参加します。
F30: 年 月 日 | K30: 代表者氏名
A32: ※チームの帯同審判は、各支部審判長から連絡がいくので確認してください。

Sheet ②スコアシート用メンバー表
A1: チーム ： | D1: =①県大会参加申込書!C3 -> 0 | N1: （ ） | Q1: タイムアウト
A2: Team | Q2: ① | R2: ② | S2: ③ | T2: ④ | U2: OT
A4: № | B4: ライセンス№ | E4: 選手氏名 Players | L4: № | M4: 出場時限 | Q4: ファウル
M5: ① | N5: ② | O5: ③ | P5: ④ | Q5: １ | R5: ２ | S5: ３ | T5: ４ | U5: ５
A6: 1 | B6: =①県大会参加申込書!U14 | C6: =①県大会参加申込書!V14 | D6: =①県大会参加申込書!W14 | E6: =①県大会参加申込書!B14 -> 0 | L6: =①県大会参加申込書!A14 -> 4
A7: 2 | B7: =①県大会参加申込書!U15 | C7: =①県大会参加申込書!V15 | D7: =①県大会参加申込書!W15 | E7: =①県大会参加申込書!B15 -> 0 | L7: =①県大会参加申込書!A15 -> 5
A8: 3 | B8: =①県大会参加申込書!U16 | C8: =①県大会参加申込書!V16 | D8: =①県大会参加申込書!W16 | E8: =①県大会参加申込書!B16 -> 0 | L8: =①県大会参加申込書!A16 -> 6
A9: 4 | B9: =①県大会参加申込書!U17 | C9: =①県大会参加申込書!V17 | D9: =①県大会参加申込書!W17 | E9: =①県大会参加申込書!B17 -> 0 | L9: =①県大会参加申込書!A17 -> 7
A10: 5 | B10: =①県大会参加申込書!U18 | C10: =①県大会参加申込書!V18 | D10: =①県大会参加申込書!W18 | E10: =①県大会参加申込書!B18 -> 0 | L10: =①県大会参加申込書!A18 -> 8
A11: 6 | B11: =①県大会参加申込書!U19 | C11: =①県大会参加申込書!V19 | D11: =①県大会参加申込書!W19 | E11: =①県大会参加申込書!B19 -> 0 | L11: =①県大会参加申込書!A19 -> 9
A12: 7 | B12: =①県大会参加申込書!U20 | C12: =①県大会参加申込書!V20 | D12: =①県大会参加申込書!W20 | E12: =①県大会参加申込書!B20 -> 0 | L12: =①県大会参加申込書!A20 -> 10
A13: 8 | B13: =①県大会参加申込書!U21 | C13: =①県大会参加申込書!V21 | D13: =①県大会参加申込書!W21 | E13: =①県大会参加申込書!B21 -> 0 | L13: =①県大会参加申込書!A21 -> 11
A14: 9 | B14: =①県大会参加申込書!U22 | C14: =①県大会参加申込書!V22 | D14: =①県大会参加申込書!W22 | E14: =①県大会参加申込書!B22 -> 0 | L14: =①県大会参加申込書!A22 -> 12
A15: 10 | B15: =①県大会参加申込書!U23 | C15: =①県大会参加申込書!V23 | D15: =①県大会参加申込書!W23 | E15: =①県大会参加申込書!B23 -> 0 | L15: =①県大会参加申込書!A23 -> 13
A16: 11 | B16: =①県大会参加申込書!U24 | C16: =①県大会参加申込書!V24 | D16: =①県大会参加申込書!W24 | E16: =①県大会参加申込書!B24 -> 0 | L16: =①県大会参加申込書!A24 -> 14
A17: 12 | B17: =①県大会参加申込書!U25 | C17: =①県大会参加申込書!V25 | D17: =①県大会参加申込書!W25 | E17: =①県大会参加申込書!B25 -> 0 | L17: =①県大会参加申込書!A25 -> 15
... A20: 15 | B20: =①県大会参加申込書!U28 | C20: =①県大会参加申込書!V28 | D20: =①県大会参加申込書!W28 | E20: =①県大会参加申込書!B28 -> 0 | L20: =①県大会参加申込書!A28 -> 18
A21: コーチ：
A22: A.コーチ：
A24: チーム ： | D24: =D1 -> 0 | N24: （ ） | Q24: タイムアウト
A25: Team | Q25: ① | R25: ② | S25: ③ | T25: ④ | U25: OT
A27: № | B27: ライセンス№ | E27: 選手氏名 Players | L27: № | M27: 出場時限 | Q27: ファウル
M28: ① | N28: ② | O28: ③ | P28: ④ | Q28: １ | R28: ２ | S28: ３ | T28: ４ | U28: ５
A29: 1 | B29: =B6 | C29: =C6 | D29: =D6 | E29: =E6 -> 0 | L29: =L6 -> 4
A30: 2 | B30: =B7 | C30: =C7 | D30: =D7 | E30: =E7 -> 0 | L30: =L7 -> 5
A31: 3 | B31: =B8 | C31: =C8 | D31: =D8 | E31: =E8 -> 0 | L31: =L8 -> 6
A32: 4 | B32: =B9 | C32: =C9 | D32: =D9 | E32: =E9 -> 0 | L32: =L9 -> 7
A33: 5 | B33: =B10 | C33: =C10 | D33: =D10 | E33: =E10 -> 0 | L33: =L10 -> 8
A34: 6 | B34: =B11 | C34: =C11 | D34: =D11 | E34: =E11 -> 0 | L34: =L11 -> 9
A35: 7 | B35: =B12 | C35: =C12 | D35: =D12 | E35: =E12 -> 0 | L35: =L12 -> 10
A36: 8 | B36: =B13 | C36: =C13 | D36: =D13 | E36: =E13 -> 0 | L36: =L13 -> 11
A37: 9 | B37: =B14 | C37: =C14 | D37: =D14 | E37: =E14 -> 0 | L37: =L14 -> 12
A38: 10 | B38: =B15 | C38: =C15 | D38: =D15 | E38: =E15 -> 0 | L38: =L15 -> 13
A39: 11 | B39: =B16 | C39: =C16 | D39: =D16 | E39: =E16 -> 0 | L39: =L16 -> 14
A40: 12 | B40: =B17 | C40: =C17 | D40: =D17 | E40: =E17 -> 0 | L40: =L17 -> 15
... A43: 15 | B43: =B20 | C43: =C20 | D43: =D20 | E43: =E20 -> 0 | L43: =L20 -> 18
A44: コーチ：
A45: A.コーチ：
